BEGIN:VCALENDAR
VERSION:2.0
PRODID:-//Lee Academy - ECPv6.15.17.1//NONSGML v1.0//EN
CALSCALE:GREGORIAN
METHOD:PUBLISH
X-WR-CALNAME:Lee Academy
X-ORIGINAL-URL:https://www.leeacademycougars.net
X-WR-CALDESC:Events for Lee Academy
REFRESH-INTERVAL;VALUE=DURATION:PT1H
X-Robots-Tag:noindex
X-PUBLISHED-TTL:PT1H
BEGIN:VTIMEZONE
TZID:America/Chicago
BEGIN:DAYLIGHT
TZOFFSETFROM:-0600
TZOFFSETTO:-0500
TZNAME:CDT
DTSTART:20250309T080000
END:DAYLIGHT
BEGIN:STANDARD
TZOFFSETFROM:-0500
TZOFFSETTO:-0600
TZNAME:CST
DTSTART:20251102T070000
END:STANDARD
BEGIN:DAYLIGHT
TZOFFSETFROM:-0600
TZOFFSETTO:-0500
TZNAME:CDT
DTSTART:20260308T080000
END:DAYLIGHT
BEGIN:STANDARD
TZOFFSETFROM:-0500
TZOFFSETTO:-0600
TZNAME:CST
DTSTART:20261101T070000
END:STANDARD
BEGIN:DAYLIGHT
TZOFFSETFROM:-0600
TZOFFSETTO:-0500
TZNAME:CDT
DTSTART:20270314T080000
END:DAYLIGHT
BEGIN:STANDARD
TZOFFSETFROM:-0500
TZOFFSETTO:-0600
TZNAME:CST
DTSTART:20271107T070000
END:STANDARD
END:VTIMEZONE
BEGIN:VEVENT
DTSTART;TZID=America/Chicago:20260120T160000
DTEND;TZID=America/Chicago:20260120T160000
DTSTAMP:20260422T194126
CREATED:20250729T194041Z
LAST-MODIFIED:20250729T194041Z
UID:10000482-1768924800-1768924800@www.leeacademycougars.net
SUMMARY:Basketball @ Scott Charter
DESCRIPTION:JG\, JB\, SG\, SB
URL:https://www.leeacademycougars.net/event/basketball-scott-charter
LOCATION:Scott Charter
END:VEVENT
BEGIN:VEVENT
DTSTART;VALUE=DATE:20260122
DTEND;VALUE=DATE:20260125
DTSTAMP:20260422T194126
CREATED:20250729T194720Z
LAST-MODIFIED:20250729T194720Z
UID:10000483-1769040000-1769299199@www.leeacademycougars.net
SUMMARY:Basketball JH District Tournament
DESCRIPTION:JG\, JB
URL:https://www.leeacademycougars.net/event/basketball-jh-district-tournament
LOCATION:home
END:VEVENT
BEGIN:VEVENT
DTSTART;TZID=America/Chicago:20260123T170000
DTEND;TZID=America/Chicago:20260123T170000
DTSTAMP:20260422T194126
CREATED:20250729T195318Z
LAST-MODIFIED:20250729T195318Z
UID:10000484-1769187600-1769187600@www.leeacademycougars.net
SUMMARY:Basketball @ Lee Clarksdale
DESCRIPTION:SG\, SB
URL:https://www.leeacademycougars.net/event/basketball-lee-clarksdale
LOCATION:Lee Clarksdale
END:VEVENT
BEGIN:VEVENT
DTSTART;VALUE=DATE:20260126
DTEND;VALUE=DATE:20260127
DTSTAMP:20260422T194126
CREATED:20250520T190621Z
LAST-MODIFIED:20250520T190621Z
UID:10000409-1769385600-1769471999@www.leeacademycougars.net
SUMMARY:LA Reading Fair
DESCRIPTION:
URL:https://www.leeacademycougars.net/event/la-reading-fair
END:VEVENT
BEGIN:VEVENT
DTSTART;TZID=America/Chicago:20260126T170000
DTEND;TZID=America/Chicago:20260126T170000
DTSTAMP:20260422T194126
CREATED:20250729T195611Z
LAST-MODIFIED:20250729T195611Z
UID:10000485-1769446800-1769446800@www.leeacademycougars.net
SUMMARY:Basketball @ Dermott
DESCRIPTION:SG\, SB
URL:https://www.leeacademycougars.net/event/basketball-dermott
LOCATION:Dermott
END:VEVENT
BEGIN:VEVENT
DTSTART;VALUE=DATE:20260130
DTEND;VALUE=DATE:20260201
DTSTAMP:20260422T194126
CREATED:20250729T200145Z
LAST-MODIFIED:20250729T202645Z
UID:10000486-1769731200-1769903999@www.leeacademycougars.net
SUMMARY:Basketball Varsity District Tournament @ Marvell Academy
DESCRIPTION:SG\, SB
URL:https://www.leeacademycougars.net/event/basketball-varsity-district-tournament-marvell-academy
LOCATION:Marvell Academy
END:VEVENT
BEGIN:VEVENT
DTSTART;VALUE=DATE:20260202
DTEND;VALUE=DATE:20260203
DTSTAMP:20260422T194126
CREATED:20260205T003755Z
LAST-MODIFIED:20260205T003755Z
UID:10000490-1769990400-1770076799@www.leeacademycougars.net
SUMMARY:LA Reading Fair
DESCRIPTION:
URL:https://www.leeacademycougars.net/event/la-reading-fair-2
END:VEVENT
BEGIN:VEVENT
DTSTART;VALUE=DATE:20260202
DTEND;VALUE=DATE:20260203
DTSTAMP:20260422T194126
CREATED:20260205T003936Z
LAST-MODIFIED:20260205T003936Z
UID:10000491-1769990400-1770076799@www.leeacademycougars.net
SUMMARY:8th Grade to Soup Kitchen
DESCRIPTION:
URL:https://www.leeacademycougars.net/event/8th-grade-to-soup-kitchen
END:VEVENT
BEGIN:VEVENT
DTSTART;VALUE=DATE:20260202
DTEND;VALUE=DATE:20260203
DTSTAMP:20260422T194126
CREATED:20260205T004141Z
LAST-MODIFIED:20260205T004141Z
UID:10000492-1769990400-1770076799@www.leeacademycougars.net
SUMMARY:Open Registration Begins
DESCRIPTION:
URL:https://www.leeacademycougars.net/event/open-registration-begins
END:VEVENT
BEGIN:VEVENT
DTSTART;VALUE=DATE:20260202
DTEND;VALUE=DATE:20260208
DTSTAMP:20260422T194126
CREATED:20250729T200345Z
LAST-MODIFIED:20250729T200345Z
UID:10000487-1769990400-1770508799@www.leeacademycougars.net
SUMMARY:Basketball North State Tournament
DESCRIPTION:SG\, SB
URL:https://www.leeacademycougars.net/event/basketball-north-state-tournament
LOCATION:TBD
END:VEVENT
BEGIN:VEVENT
DTSTART;VALUE=DATE:20260204
DTEND;VALUE=DATE:20260205
DTSTAMP:20260422T194126
CREATED:20250520T190839Z
LAST-MODIFIED:20250520T190839Z
UID:10000410-1770163200-1770249599@www.leeacademycougars.net
SUMMARY:Third Nine Weeks Progress Reports
DESCRIPTION:
URL:https://www.leeacademycougars.net/event/third-nine-weeks-progress-reports
END:VEVENT
BEGIN:VEVENT
DTSTART;VALUE=DATE:20260209
DTEND;VALUE=DATE:20260215
DTSTAMP:20260422T194126
CREATED:20250729T200554Z
LAST-MODIFIED:20250729T200554Z
UID:10000488-1770595200-1771113599@www.leeacademycougars.net
SUMMARY:Basketball State Overall Tournament
DESCRIPTION:SG\, SB
URL:https://www.leeacademycougars.net/event/basketball-state-overall-tournament
LOCATION:TBD
END:VEVENT
BEGIN:VEVENT
DTSTART;VALUE=DATE:20260211
DTEND;VALUE=DATE:20260212
DTSTAMP:20260422T194126
CREATED:20260205T004508Z
LAST-MODIFIED:20260205T004508Z
UID:10000493-1770768000-1770854399@www.leeacademycougars.net
SUMMARY:Lifetouch Spring & Classroom Pictures
DESCRIPTION:
URL:https://www.leeacademycougars.net/event/lifetouch-spring-classroom-pictures
END:VEVENT
BEGIN:VEVENT
DTSTART;VALUE=DATE:20260216
DTEND;VALUE=DATE:20260217
DTSTAMP:20260422T194126
CREATED:20250520T190933Z
LAST-MODIFIED:20250520T190933Z
UID:10000411-1771200000-1771286399@www.leeacademycougars.net
SUMMARY:Presidents Day - No School
DESCRIPTION:
URL:https://www.leeacademycougars.net/event/presidents-day-no-school
END:VEVENT
BEGIN:VEVENT
DTSTART;VALUE=DATE:20260216
DTEND;VALUE=DATE:20260222
DTSTAMP:20260422T194126
CREATED:20250729T200742Z
LAST-MODIFIED:20250729T200742Z
UID:10000489-1771200000-1771718399@www.leeacademycougars.net
SUMMARY:Basketball Overall State Tournament
DESCRIPTION:SG\, SB
URL:https://www.leeacademycougars.net/event/basketball-overall-state-tournament
LOCATION:TBD
END:VEVENT
BEGIN:VEVENT
DTSTART;TZID=America/Chicago:20260217T163000
DTEND;TZID=America/Chicago:20260217T163000
DTSTAMP:20260422T194126
CREATED:20260205T004642Z
LAST-MODIFIED:20260205T004642Z
UID:10000494-1771345800-1771345800@www.leeacademycougars.net
SUMMARY:Baseball vs. WMC A/B
DESCRIPTION:
URL:https://www.leeacademycougars.net/event/baseball-vs-wmc-a-b
END:VEVENT
BEGIN:VEVENT
DTSTART;TZID=America/Chicago:20260219T160000
DTEND;TZID=America/Chicago:20260219T160000
DTSTAMP:20260422T194126
CREATED:20260205T004819Z
LAST-MODIFIED:20260205T004819Z
UID:10000495-1771516800-1771516800@www.leeacademycougars.net
SUMMARY:Baseball @ Lee Clarksdale B
DESCRIPTION:
URL:https://www.leeacademycougars.net/event/baseball-lee-clarksdale-b
END:VEVENT
BEGIN:VEVENT
DTSTART;TZID=America/Chicago:20260219T180000
DTEND;TZID=America/Chicago:20260219T180000
DTSTAMP:20260422T194126
CREATED:20260205T004923Z
LAST-MODIFIED:20260205T004923Z
UID:10000496-1771524000-1771524000@www.leeacademycougars.net
SUMMARY:Baseball @ Lee Clarksdale A
DESCRIPTION:
URL:https://www.leeacademycougars.net/event/baseball-lee-clarksdale-a
END:VEVENT
BEGIN:VEVENT
DTSTART;TZID=America/Chicago:20260221T170000
DTEND;TZID=America/Chicago:20260221T170000
DTSTAMP:20260422T194126
CREATED:20250520T191231Z
LAST-MODIFIED:20260205T005608Z
UID:10000412-1771693200-1771693200@www.leeacademycougars.net
SUMMARY:Family Night Out
DESCRIPTION:
URL:https://www.leeacademycougars.net/event/family-night-out
END:VEVENT
BEGIN:VEVENT
DTSTART;VALUE=DATE:20260223
DTEND;VALUE=DATE:20260224
DTSTAMP:20260422T194126
CREATED:20260205T005126Z
LAST-MODIFIED:20260205T005126Z
UID:10000498-1771804800-1771891199@www.leeacademycougars.net
SUMMARY:7th Grade to Soup Kitchen
DESCRIPTION:
URL:https://www.leeacademycougars.net/event/7th-grade-to-soup-kitchen
END:VEVENT
BEGIN:VEVENT
DTSTART;TZID=America/Chicago:20260223T163000
DTEND;TZID=America/Chicago:20260223T163000
DTSTAMP:20260422T194126
CREATED:20260205T005025Z
LAST-MODIFIED:20260205T005025Z
UID:10000497-1771864200-1771864200@www.leeacademycougars.net
SUMMARY:Baseball vs. Delta A/B
DESCRIPTION:
URL:https://www.leeacademycougars.net/event/baseball-vs-delta-a-b
END:VEVENT
BEGIN:VEVENT
DTSTART;TZID=America/Chicago:20260224T163000
DTEND;TZID=America/Chicago:20260224T163000
DTSTAMP:20260422T194126
CREATED:20260205T005238Z
LAST-MODIFIED:20260205T005238Z
UID:10000499-1771950600-1771950600@www.leeacademycougars.net
SUMMARY:Baseball vs. N. Sunflower A/B
DESCRIPTION:
URL:https://www.leeacademycougars.net/event/baseball-vs-n-sunflower-a-b
END:VEVENT
BEGIN:VEVENT
DTSTART;VALUE=DATE:20260225
DTEND;VALUE=DATE:20260226
DTSTAMP:20260422T194126
CREATED:20260205T005333Z
LAST-MODIFIED:20260205T005333Z
UID:10000500-1771977600-1772063999@www.leeacademycougars.net
SUMMARY:District Reading Fair at DeSoto
DESCRIPTION:
URL:https://www.leeacademycougars.net/event/district-reading-fair-at-desoto
END:VEVENT
BEGIN:VEVENT
DTSTART;TZID=America/Chicago:20260226T163000
DTEND;TZID=America/Chicago:20260226T163000
DTSTAMP:20260422T194126
CREATED:20260205T005432Z
LAST-MODIFIED:20260205T005432Z
UID:10000501-1772123400-1772123400@www.leeacademycougars.net
SUMMARY:Baseball @ WMC A/B
DESCRIPTION:
URL:https://www.leeacademycougars.net/event/baseball-wmc-a-b
END:VEVENT
BEGIN:VEVENT
DTSTART;VALUE=DATE:20260306
DTEND;VALUE=DATE:20260307
DTSTAMP:20260422T194126
CREATED:20250520T191341Z
LAST-MODIFIED:20250520T191341Z
UID:10000413-1772755200-1772841599@www.leeacademycougars.net
SUMMARY:End of Third Nine Weeks (44 days)
DESCRIPTION:
URL:https://www.leeacademycougars.net/event/end-of-third-nine-weeks-44-days
END:VEVENT
BEGIN:VEVENT
DTSTART;VALUE=DATE:20260308
DTEND;VALUE=DATE:20260309
DTSTAMP:20260422T194126
CREATED:20250520T191432Z
LAST-MODIFIED:20250520T191432Z
UID:10000414-1772928000-1773014399@www.leeacademycougars.net
SUMMARY:Daylight Savings Time
DESCRIPTION:
URL:https://www.leeacademycougars.net/event/daylight-savings-time
END:VEVENT
BEGIN:VEVENT
DTSTART;TZID=America/Chicago:20260320T120000
DTEND;TZID=America/Chicago:20260320T120000
DTSTAMP:20260422T194126
CREATED:20250520T191530Z
LAST-MODIFIED:20250520T191530Z
UID:10000415-1774008000-1774008000@www.leeacademycougars.net
SUMMARY:Early Dismissal
DESCRIPTION:
URL:https://www.leeacademycougars.net/event/early-dismissal-5
END:VEVENT
BEGIN:VEVENT
DTSTART;TZID=America/Chicago:20260320T130000
DTEND;TZID=America/Chicago:20260320T130000
DTSTAMP:20260422T194126
CREATED:20250520T191624Z
LAST-MODIFIED:20250520T191624Z
UID:10000416-1774011600-1774011600@www.leeacademycougars.net
SUMMARY:Cheer Tryouts
DESCRIPTION:
URL:https://www.leeacademycougars.net/event/cheer-tryouts
END:VEVENT
BEGIN:VEVENT
DTSTART;VALUE=DATE:20260323
DTEND;VALUE=DATE:20260328
DTSTAMP:20260422T194126
CREATED:20250520T191730Z
LAST-MODIFIED:20250520T191730Z
UID:10000417-1774224000-1774655999@www.leeacademycougars.net
SUMMARY:Spring Break
DESCRIPTION:
URL:https://www.leeacademycougars.net/event/spring-break
END:VEVENT
BEGIN:VEVENT
DTSTART;VALUE=DATE:20260403
DTEND;VALUE=DATE:20260407
DTSTAMP:20260422T194126
CREATED:20250520T191822Z
LAST-MODIFIED:20250520T191822Z
UID:10000418-1775174400-1775519999@www.leeacademycougars.net
SUMMARY:Easter Break
DESCRIPTION:
URL:https://www.leeacademycougars.net/event/easter-break
END:VEVENT
END:VCALENDAR