BEGIN:VCALENDAR
VERSION:2.0
PRODID:-//Lee Academy - ECPv6.15.17.1//NONSGML v1.0//EN
CALSCALE:GREGORIAN
METHOD:PUBLISH
X-WR-CALNAME:Lee Academy
X-ORIGINAL-URL:https://www.leeacademycougars.net
X-WR-CALDESC:Events for Lee Academy
REFRESH-INTERVAL;VALUE=DURATION:PT1H
X-Robots-Tag:noindex
X-PUBLISHED-TTL:PT1H
BEGIN:VTIMEZONE
TZID:America/Chicago
BEGIN:DAYLIGHT
TZOFFSETFROM:-0600
TZOFFSETTO:-0500
TZNAME:CDT
DTSTART:20240310T080000
END:DAYLIGHT
BEGIN:STANDARD
TZOFFSETFROM:-0500
TZOFFSETTO:-0600
TZNAME:CST
DTSTART:20241103T070000
END:STANDARD
BEGIN:DAYLIGHT
TZOFFSETFROM:-0600
TZOFFSETTO:-0500
TZNAME:CDT
DTSTART:20250309T080000
END:DAYLIGHT
BEGIN:STANDARD
TZOFFSETFROM:-0500
TZOFFSETTO:-0600
TZNAME:CST
DTSTART:20251102T070000
END:STANDARD
BEGIN:DAYLIGHT
TZOFFSETFROM:-0600
TZOFFSETTO:-0500
TZNAME:CDT
DTSTART:20260308T080000
END:DAYLIGHT
BEGIN:STANDARD
TZOFFSETFROM:-0500
TZOFFSETTO:-0600
TZNAME:CST
DTSTART:20261101T070000
END:STANDARD
END:VTIMEZONE
BEGIN:VEVENT
DTSTART;VALUE=DATE:20250903
DTEND;VALUE=DATE:20250904
DTSTAMP:20260425T070701
CREATED:20250520T183748Z
LAST-MODIFIED:20250520T184320Z
UID:10000393-1756857600-1756943999@www.leeacademycougars.net
SUMMARY:First Nine Weeks Progress Report
DESCRIPTION:
URL:https://www.leeacademycougars.net/event/first-nine-weeks-progress-report
END:VEVENT
BEGIN:VEVENT
DTSTART;VALUE=DATE:20250901
DTEND;VALUE=DATE:20250902
DTSTAMP:20260425T070701
CREATED:20250520T183706Z
LAST-MODIFIED:20250520T184110Z
UID:10000392-1756684800-1756771199@www.leeacademycougars.net
SUMMARY:Labor Day - No Classes
DESCRIPTION:
URL:https://www.leeacademycougars.net/event/labor-day-no-classes
END:VEVENT
BEGIN:VEVENT
DTSTART;TZID=America/Chicago:20250829T190000
DTEND;TZID=America/Chicago:20250829T190000
DTSTAMP:20260425T070701
CREATED:20250729T172722Z
LAST-MODIFIED:20250729T172722Z
UID:10000434-1756494000-1756494000@www.leeacademycougars.net
SUMMARY:Varsity Football vs. Delta Streets
DESCRIPTION:
URL:https://www.leeacademycougars.net/event/varsity-football-vs-delta-streets
LOCATION:home
END:VEVENT
BEGIN:VEVENT
DTSTART;VALUE=DATE:20250828
DTEND;VALUE=DATE:20250829
DTSTAMP:20260425T070702
CREATED:20250729T180859Z
LAST-MODIFIED:20250729T180859Z
UID:10000447-1756339200-1756425599@www.leeacademycougars.net
SUMMARY:Junior High Football Jamboree @ Tunica
DESCRIPTION:
URL:https://www.leeacademycougars.net/event/junior-high-football-jamboree-tunica
LOCATION:Tunica
END:VEVENT
BEGIN:VEVENT
DTSTART;TZID=America/Chicago:20250822T190000
DTEND;TZID=America/Chicago:20250822T190000
DTSTAMP:20260425T070702
CREATED:20250729T172559Z
LAST-MODIFIED:20250729T172559Z
UID:10000433-1755889200-1755889200@www.leeacademycougars.net
SUMMARY:Varsity Football @ Corning High School
DESCRIPTION:
URL:https://www.leeacademycougars.net/event/varsity-football-corning-high-school
LOCATION:Corning High School
END:VEVENT
BEGIN:VEVENT
DTSTART;TZID=America/Chicago:20250815T190000
DTEND;TZID=America/Chicago:20250815T190000
DTSTAMP:20260425T070702
CREATED:20250729T172405Z
LAST-MODIFIED:20250729T172405Z
UID:10000432-1755284400-1755284400@www.leeacademycougars.net
SUMMARY:Varsity Football Jamboree @ Helena\, AR
DESCRIPTION:
URL:https://www.leeacademycougars.net/event/varsity-football-jamboree-helena-ar
LOCATION:Helena\, AR
END:VEVENT
BEGIN:VEVENT
DTSTART;VALUE=DATE:20250807
DTEND;VALUE=DATE:20250808
DTSTAMP:20260425T070702
CREATED:20250520T183627Z
LAST-MODIFIED:20250520T184024Z
UID:10000391-1754524800-1754611199@www.leeacademycougars.net
SUMMARY:First Day of School for Students
DESCRIPTION:
URL:https://www.leeacademycougars.net/event/first-day-of-school-for-students
END:VEVENT
BEGIN:VEVENT
DTSTART;VALUE=DATE:20250806
DTEND;VALUE=DATE:20250807
DTSTAMP:20260425T070702
CREATED:20250520T183211Z
LAST-MODIFIED:20250520T183415Z
UID:10000024-1754438400-1754524799@www.leeacademycougars.net
SUMMARY:Teacher Workday
DESCRIPTION:
URL:https://www.leeacademycougars.net/event/teacher-workday/2025-08-06
END:VEVENT
BEGIN:VEVENT
DTSTART;TZID=America/Chicago:20250805T180000
DTEND;TZID=America/Chicago:20250805T180000
DTSTAMP:20260425T070702
CREATED:20250520T183548Z
LAST-MODIFIED:20250520T183548Z
UID:10000390-1754416800-1754416800@www.leeacademycougars.net
SUMMARY:Co-op Meeting/Open House
DESCRIPTION:
URL:https://www.leeacademycougars.net/event/co-op-meeting-open-house
END:VEVENT
BEGIN:VEVENT
DTSTART;VALUE=DATE:20250805
DTEND;VALUE=DATE:20250806
DTSTAMP:20260425T070702
CREATED:20250520T183211Z
LAST-MODIFIED:20250520T183415Z
UID:10000023-1754352000-1754438399@www.leeacademycougars.net
SUMMARY:Teacher Workday
DESCRIPTION:
URL:https://www.leeacademycougars.net/event/teacher-workday/2025-08-05
END:VEVENT
BEGIN:VEVENT
DTSTART;TZID=America/Chicago:20250516T120000
DTEND;TZID=America/Chicago:20250516T120000
DTSTAMP:20260425T070702
CREATED:20250410T170209Z
LAST-MODIFIED:20250410T170209Z
UID:10000022-1747396800-1747396800@www.leeacademycougars.net
SUMMARY:Early Dismissal
DESCRIPTION:
URL:https://www.leeacademycougars.net/event/early-dismissal
END:VEVENT
BEGIN:VEVENT
DTSTART;VALUE=DATE:20250516
DTEND;VALUE=DATE:20250517
DTSTAMP:20260425T070702
CREATED:20250410T170130Z
LAST-MODIFIED:20250410T170130Z
UID:10000021-1747353600-1747439999@www.leeacademycougars.net
SUMMARY:Last Day of School
DESCRIPTION:
URL:https://www.leeacademycougars.net/event/last-day-of-school
END:VEVENT
BEGIN:VEVENT
DTSTART;VALUE=DATE:20250516
DTEND;VALUE=DATE:20250517
DTSTAMP:20260425T070702
CREATED:20250410T170021Z
LAST-MODIFIED:20250410T170021Z
UID:10000019-1747353600-1747439999@www.leeacademycougars.net
SUMMARY:Final Exams - Grades 4–11
DESCRIPTION:
URL:https://www.leeacademycougars.net/event/final-exams-grades-4-11-4
END:VEVENT
BEGIN:VEVENT
DTSTART;TZID=America/Chicago:20250515T100000
DTEND;TZID=America/Chicago:20250515T100000
DTSTAMP:20260425T070702
CREATED:20250410T170057Z
LAST-MODIFIED:20250410T170057Z
UID:10000020-1747303200-1747303200@www.leeacademycougars.net
SUMMARY:6th Grade Promotion
DESCRIPTION:
URL:https://www.leeacademycougars.net/event/6th-grade-promotion
END:VEVENT
BEGIN:VEVENT
DTSTART;VALUE=DATE:20250515
DTEND;VALUE=DATE:20250516
DTSTAMP:20260425T070702
CREATED:20250410T165950Z
LAST-MODIFIED:20250410T165950Z
UID:10000018-1747267200-1747353599@www.leeacademycougars.net
SUMMARY:Final Exams - Grades 4–11
DESCRIPTION:
URL:https://www.leeacademycougars.net/event/final-exams-grades-4-11-3
END:VEVENT
BEGIN:VEVENT
DTSTART;VALUE=DATE:20250514
DTEND;VALUE=DATE:20250515
DTSTAMP:20260425T070702
CREATED:20250410T165916Z
LAST-MODIFIED:20250410T165916Z
UID:10000017-1747180800-1747267199@www.leeacademycougars.net
SUMMARY:Final Exams - Grades 4–11
DESCRIPTION:
URL:https://www.leeacademycougars.net/event/final-exams-grades-4-11-2
END:VEVENT
BEGIN:VEVENT
DTSTART;VALUE=DATE:20250513
DTEND;VALUE=DATE:20250514
DTSTAMP:20260425T070702
CREATED:20250410T165845Z
LAST-MODIFIED:20250410T165845Z
UID:10000016-1747094400-1747180799@www.leeacademycougars.net
SUMMARY:Final Exams - Grades 4–11
DESCRIPTION:
URL:https://www.leeacademycougars.net/event/final-exams-grades-4-11
END:VEVENT
BEGIN:VEVENT
DTSTART;TZID=America/Chicago:20250509T190000
DTEND;TZID=America/Chicago:20250509T190000
DTSTAMP:20260425T070702
CREATED:20250410T165814Z
LAST-MODIFIED:20250410T165814Z
UID:10000015-1746817200-1746817200@www.leeacademycougars.net
SUMMARY:Commencement
DESCRIPTION:
URL:https://www.leeacademycougars.net/event/commencement
END:VEVENT
BEGIN:VEVENT
DTSTART;TZID=America/Chicago:20250504T160000
DTEND;TZID=America/Chicago:20250504T160000
DTSTAMP:20260425T070702
CREATED:20250410T165737Z
LAST-MODIFIED:20250410T165737Z
UID:10000014-1746374400-1746374400@www.leeacademycougars.net
SUMMARY:Baccalaureate
DESCRIPTION:
URL:https://www.leeacademycougars.net/event/baccalaureate
END:VEVENT
BEGIN:VEVENT
DTSTART;TZID=America/Chicago:20250502T180000
DTEND;TZID=America/Chicago:20250502T180000
DTSTAMP:20260425T070702
CREATED:20250410T165702Z
LAST-MODIFIED:20250410T165702Z
UID:10000013-1746208800-1746208800@www.leeacademycougars.net
SUMMARY:Kindergarten Graduation
DESCRIPTION:
URL:https://www.leeacademycougars.net/event/kindergarten-graduation
END:VEVENT
BEGIN:VEVENT
DTSTART;TZID=America/Chicago:20250501T090000
DTEND;TZID=America/Chicago:20250501T090000
DTSTAMP:20260425T070702
CREATED:20250410T165628Z
LAST-MODIFIED:20250410T165628Z
UID:10000012-1746090000-1746090000@www.leeacademycougars.net
SUMMARY:Class Day
DESCRIPTION:
URL:https://www.leeacademycougars.net/event/class-day
END:VEVENT
BEGIN:VEVENT
DTSTART;TZID=America/Chicago:20250430T090000
DTEND;TZID=America/Chicago:20250430T090000
DTSTAMP:20260425T070702
CREATED:20250410T165554Z
LAST-MODIFIED:20250410T165554Z
UID:10000011-1746003600-1746003600@www.leeacademycougars.net
SUMMARY:High School Honors Day
DESCRIPTION:
URL:https://www.leeacademycougars.net/event/high-school-honors-day
END:VEVENT
BEGIN:VEVENT
DTSTART;VALUE=DATE:20250430
DTEND;VALUE=DATE:20250501
DTSTAMP:20260425T070702
CREATED:20250410T165445Z
LAST-MODIFIED:20250410T165445Z
UID:10000009-1745971200-1746057599@www.leeacademycougars.net
SUMMARY:Senior Finals
DESCRIPTION:
URL:https://www.leeacademycougars.net/event/senior-finals-3
END:VEVENT
BEGIN:VEVENT
DTSTART;TZID=America/Chicago:20250429T090000
DTEND;TZID=America/Chicago:20250429T090000
DTSTAMP:20260425T070702
CREATED:20250410T165519Z
LAST-MODIFIED:20250410T165519Z
UID:10000010-1745917200-1745917200@www.leeacademycougars.net
SUMMARY:Elementary Honors Day
DESCRIPTION:
URL:https://www.leeacademycougars.net/event/elementary-honors-day
END:VEVENT
BEGIN:VEVENT
DTSTART;VALUE=DATE:20250429
DTEND;VALUE=DATE:20250430
DTSTAMP:20260425T070702
CREATED:20250410T165415Z
LAST-MODIFIED:20250410T165415Z
UID:10000008-1745884800-1745971199@www.leeacademycougars.net
SUMMARY:Senior Finals
DESCRIPTION:
URL:https://www.leeacademycougars.net/event/senior-finals-2
END:VEVENT
BEGIN:VEVENT
DTSTART;VALUE=DATE:20250428
DTEND;VALUE=DATE:20250429
DTSTAMP:20260425T070702
CREATED:20250410T165344Z
LAST-MODIFIED:20250410T165344Z
UID:10000007-1745798400-1745884799@www.leeacademycougars.net
SUMMARY:Senior Finals
DESCRIPTION:
URL:https://www.leeacademycougars.net/event/senior-finals
END:VEVENT
BEGIN:VEVENT
DTSTART;VALUE=DATE:20250421
DTEND;VALUE=DATE:20250422
DTSTAMP:20260425T070702
CREATED:20250410T165302Z
LAST-MODIFIED:20250410T165302Z
UID:10000006-1745193600-1745279999@www.leeacademycougars.net
SUMMARY:Easter Break - No School
DESCRIPTION:
URL:https://www.leeacademycougars.net/event/easter-break-no-school-2
END:VEVENT
BEGIN:VEVENT
DTSTART;VALUE=DATE:20250418
DTEND;VALUE=DATE:20250419
DTSTAMP:20260425T070702
CREATED:20250410T165230Z
LAST-MODIFIED:20250410T165230Z
UID:10000005-1744934400-1745020799@www.leeacademycougars.net
SUMMARY:Easter Break - No School
DESCRIPTION:
URL:https://www.leeacademycougars.net/event/easter-break-no-school
END:VEVENT
BEGIN:VEVENT
DTSTART;VALUE=DATE:20250416
DTEND;VALUE=DATE:20250417
DTSTAMP:20260425T070702
CREATED:20250410T165159Z
LAST-MODIFIED:20250410T165159Z
UID:10000004-1744761600-1744847999@www.leeacademycougars.net
SUMMARY:4th Nine Weeks Progress Reports
DESCRIPTION:
URL:https://www.leeacademycougars.net/event/4th-nine-weeks-progress-reports
END:VEVENT
BEGIN:VEVENT
DTSTART;VALUE=DATE:20250405
DTEND;VALUE=DATE:20250406
DTSTAMP:20260425T070702
CREATED:20250410T165130Z
LAST-MODIFIED:20250410T165130Z
UID:10000003-1743811200-1743897599@www.leeacademycougars.net
SUMMARY:Prom
DESCRIPTION:
URL:https://www.leeacademycougars.net/event/prom
END:VEVENT
END:VCALENDAR