BEGIN:VCALENDAR
VERSION:2.0
PRODID:-//Lee Academy - ECPv6.15.17.1//NONSGML v1.0//EN
CALSCALE:GREGORIAN
METHOD:PUBLISH
X-WR-CALNAME:Lee Academy
X-ORIGINAL-URL:https://www.leeacademycougars.net
X-WR-CALDESC:Events for Lee Academy
REFRESH-INTERVAL;VALUE=DURATION:PT1H
X-Robots-Tag:noindex
X-PUBLISHED-TTL:PT1H
BEGIN:VTIMEZONE
TZID:America/Chicago
BEGIN:DAYLIGHT
TZOFFSETFROM:-0600
TZOFFSETTO:-0500
TZNAME:CDT
DTSTART:20240310T080000
END:DAYLIGHT
BEGIN:STANDARD
TZOFFSETFROM:-0500
TZOFFSETTO:-0600
TZNAME:CST
DTSTART:20241103T070000
END:STANDARD
BEGIN:DAYLIGHT
TZOFFSETFROM:-0600
TZOFFSETTO:-0500
TZNAME:CDT
DTSTART:20250309T080000
END:DAYLIGHT
BEGIN:STANDARD
TZOFFSETFROM:-0500
TZOFFSETTO:-0600
TZNAME:CST
DTSTART:20251102T070000
END:STANDARD
BEGIN:DAYLIGHT
TZOFFSETFROM:-0600
TZOFFSETTO:-0500
TZNAME:CDT
DTSTART:20260308T080000
END:DAYLIGHT
BEGIN:STANDARD
TZOFFSETFROM:-0500
TZOFFSETTO:-0600
TZNAME:CST
DTSTART:20261101T070000
END:STANDARD
BEGIN:DAYLIGHT
TZOFFSETFROM:-0600
TZOFFSETTO:-0500
TZNAME:CDT
DTSTART:20270314T080000
END:DAYLIGHT
BEGIN:STANDARD
TZOFFSETFROM:-0500
TZOFFSETTO:-0600
TZNAME:CST
DTSTART:20271107T070000
END:STANDARD
END:VTIMEZONE
BEGIN:VEVENT
DTSTART;TZID=America/Chicago:20260113T160000
DTEND;TZID=America/Chicago:20260113T160000
DTSTAMP:20260422T231139
CREATED:20250729T193707Z
LAST-MODIFIED:20250729T193707Z
UID:10000480-1768320000-1768320000@www.leeacademycougars.net
SUMMARY:Basketball vs. Marvell
DESCRIPTION:JG\, JB\, SG\, SB
URL:https://www.leeacademycougars.net/event/basketball-vs-marvell
LOCATION:home
END:VEVENT
BEGIN:VEVENT
DTSTART;TZID=America/Chicago:20260112T160000
DTEND;TZID=America/Chicago:20260112T160000
DTSTAMP:20260422T231139
CREATED:20250729T193515Z
LAST-MODIFIED:20250729T193515Z
UID:10000479-1768233600-1768233600@www.leeacademycougars.net
SUMMARY:Basketball vs. Scott Charter
DESCRIPTION:JG\, JB\, SG\, SB
URL:https://www.leeacademycougars.net/event/basketball-vs-scott-charter
LOCATION:home
END:VEVENT
BEGIN:VEVENT
DTSTART;TZID=America/Chicago:20260109T160000
DTEND;TZID=America/Chicago:20260109T160000
DTSTAMP:20260422T231139
CREATED:20250729T193320Z
LAST-MODIFIED:20250729T193320Z
UID:10000478-1767974400-1767974400@www.leeacademycougars.net
SUMMARY:Basketball @ Tunica
DESCRIPTION:JG\, JB\, SG\, SB
URL:https://www.leeacademycougars.net/event/basketball-tunica
LOCATION:Tunica
END:VEVENT
BEGIN:VEVENT
DTSTART;TZID=America/Chicago:20260106T160000
DTEND;TZID=America/Chicago:20260106T160000
DTSTAMP:20260422T231139
CREATED:20250729T192259Z
LAST-MODIFIED:20250729T192259Z
UID:10000477-1767715200-1767715200@www.leeacademycougars.net
SUMMARY:Basketball @ Desoto
DESCRIPTION:JG\, JB\, SG\, SB
URL:https://www.leeacademycougars.net/event/basketball-desoto
LOCATION:Desoto School
END:VEVENT
BEGIN:VEVENT
DTSTART;TZID=America/Chicago:20260105T160000
DTEND;TZID=America/Chicago:20260105T160000
DTSTAMP:20260422T231139
CREATED:20250729T192106Z
LAST-MODIFIED:20250729T192106Z
UID:10000476-1767628800-1767628800@www.leeacademycougars.net
SUMMARY:Basketball vs. North Sunflower Academy
DESCRIPTION:JG\, JB\, SG\, SB
URL:https://www.leeacademycougars.net/event/basketball-vs-north-sunflower-academy
LOCATION:home
END:VEVENT
BEGIN:VEVENT
DTSTART;VALUE=DATE:20260105
DTEND;VALUE=DATE:20260106
DTSTAMP:20260422T231139
CREATED:20250520T190527Z
LAST-MODIFIED:20250520T190527Z
UID:10000408-1767571200-1767657599@www.leeacademycougars.net
SUMMARY:First Day of Second Semester
DESCRIPTION:
URL:https://www.leeacademycougars.net/event/first-day-of-second-semester
END:VEVENT
BEGIN:VEVENT
DTSTART;VALUE=DATE:20251229
DTEND;VALUE=DATE:20251231
DTSTAMP:20260422T231139
CREATED:20250729T191928Z
LAST-MODIFIED:20250729T191928Z
UID:10000475-1766966400-1767139199@www.leeacademycougars.net
SUMMARY:Basketball @ Tunica Christmas Tournament
DESCRIPTION:SG\, SB
URL:https://www.leeacademycougars.net/event/basketball-tunica-christmas-tournament
LOCATION:Tunica
END:VEVENT
BEGIN:VEVENT
DTSTART;VALUE=DATE:20251219
DTEND;VALUE=DATE:20260103
DTSTAMP:20260422T231139
CREATED:20250520T190356Z
LAST-MODIFIED:20250520T190356Z
UID:10000407-1766102400-1767398399@www.leeacademycougars.net
SUMMARY:Christmas Break
DESCRIPTION:
URL:https://www.leeacademycougars.net/event/christmas-break
END:VEVENT
BEGIN:VEVENT
DTSTART;TZID=America/Chicago:20251218T120000
DTEND;TZID=America/Chicago:20251218T120000
DTSTAMP:20260422T231139
CREATED:20250520T190302Z
LAST-MODIFIED:20250520T190302Z
UID:10000406-1766059200-1766059200@www.leeacademycougars.net
SUMMARY:Early Dismissal
DESCRIPTION:
URL:https://www.leeacademycougars.net/event/early-dismissal-4
END:VEVENT
BEGIN:VEVENT
DTSTART;VALUE=DATE:20251218
DTEND;VALUE=DATE:20251219
DTSTAMP:20260422T231139
CREATED:20250520T190202Z
LAST-MODIFIED:20250520T190202Z
UID:10000405-1766016000-1766102399@www.leeacademycougars.net
SUMMARY:End of Second Nine Weeks
DESCRIPTION:
URL:https://www.leeacademycougars.net/event/end-of-second-nine-weeks
END:VEVENT
BEGIN:VEVENT
DTSTART;TZID=America/Chicago:20251215T160000
DTEND;TZID=America/Chicago:20251215T160000
DTSTAMP:20260422T231139
CREATED:20250729T191723Z
LAST-MODIFIED:20250729T191723Z
UID:10000474-1765814400-1765814400@www.leeacademycougars.net
SUMMARY:Basketball @ North Sunlower Academy
DESCRIPTION:JG\, JB\, SG\, SB
URL:https://www.leeacademycougars.net/event/basketball-north-sunlower-academy
LOCATION:North Sunflower Academy
END:VEVENT
BEGIN:VEVENT
DTSTART;VALUE=DATE:20251215
DTEND;VALUE=DATE:20251219
DTSTAMP:20260422T231139
CREATED:20250520T190036Z
LAST-MODIFIED:20250520T190036Z
UID:10000404-1765756800-1766102399@www.leeacademycougars.net
SUMMARY:Semester Tests - Grades 4-12
DESCRIPTION:
URL:https://www.leeacademycougars.net/event/semester-tests-grades-4-12
END:VEVENT
BEGIN:VEVENT
DTSTART;TZID=America/Chicago:20251213T150000
DTEND;TZID=America/Chicago:20251213T150000
DTSTAMP:20260422T231139
CREATED:20250729T191515Z
LAST-MODIFIED:20250729T191515Z
UID:10000473-1765638000-1765638000@www.leeacademycougars.net
SUMMARY:Basketball @ Harrisburg
DESCRIPTION:JB\, SB
URL:https://www.leeacademycougars.net/event/basketball-harrisburg
LOCATION:Harrisburg
END:VEVENT
BEGIN:VEVENT
DTSTART;TZID=America/Chicago:20251212T160000
DTEND;TZID=America/Chicago:20251212T160000
DTSTAMP:20260422T231139
CREATED:20250729T191152Z
LAST-MODIFIED:20250729T191152Z
UID:10000472-1765555200-1765555200@www.leeacademycougars.net
SUMMARY:Basketball @ Marvell
DESCRIPTION:JG\, JB\, SG\, SB
URL:https://www.leeacademycougars.net/event/basketball-marvell
LOCATION:Marvell Academy
END:VEVENT
BEGIN:VEVENT
DTSTART;TZID=America/Chicago:20251211T160000
DTEND;TZID=America/Chicago:20251211T160000
DTSTAMP:20260422T231139
CREATED:20250729T191010Z
LAST-MODIFIED:20250729T191010Z
UID:10000471-1765468800-1765468800@www.leeacademycougars.net
SUMMARY:Basketball vs. Abundant Life
DESCRIPTION:JG\, JB\, SB
URL:https://www.leeacademycougars.net/event/basketball-vs-abundant-life
LOCATION:home
END:VEVENT
BEGIN:VEVENT
DTSTART;TZID=America/Chicago:20251209T160000
DTEND;TZID=America/Chicago:20251209T160000
DTSTAMP:20260422T231139
CREATED:20250729T190821Z
LAST-MODIFIED:20250729T190821Z
UID:10000470-1765296000-1765296000@www.leeacademycougars.net
SUMMARY:Basketball vs. Tunica
DESCRIPTION:JG\, JB\, SG\, SB
URL:https://www.leeacademycougars.net/event/basketball-vs-tunica
LOCATION:home
END:VEVENT
BEGIN:VEVENT
DTSTART;TZID=America/Chicago:20251205T160000
DTEND;TZID=America/Chicago:20251205T160000
DTSTAMP:20260422T231139
CREATED:20250729T190644Z
LAST-MODIFIED:20250729T190644Z
UID:10000469-1764950400-1764950400@www.leeacademycougars.net
SUMMARY:Basketball @ West Memphis Christian
DESCRIPTION:JG\, JB\, SG\, SB
URL:https://www.leeacademycougars.net/event/basketball-west-memphis-christian
LOCATION:West Memphis Christian
END:VEVENT
BEGIN:VEVENT
DTSTART;TZID=America/Chicago:20251202T170000
DTEND;TZID=America/Chicago:20251202T170000
DTSTAMP:20260422T231139
CREATED:20250729T185733Z
LAST-MODIFIED:20250729T185733Z
UID:10000468-1764694800-1764694800@www.leeacademycougars.net
SUMMARY:Basketball vs. Maumelle Charter
DESCRIPTION:JG\, SG
URL:https://www.leeacademycougars.net/event/basketball-vs-maumelle-charter
LOCATION:home
END:VEVENT
BEGIN:VEVENT
DTSTART;TZID=America/Chicago:20251201T160000
DTEND;TZID=America/Chicago:20251201T160000
DTSTAMP:20260422T231139
CREATED:20250729T185553Z
LAST-MODIFIED:20250729T185553Z
UID:10000467-1764604800-1764604800@www.leeacademycougars.net
SUMMARY:Basketball @ Midland
DESCRIPTION:JG\, JB\, SG\, SB
URL:https://www.leeacademycougars.net/event/basketball-midland
LOCATION:Midland
END:VEVENT
BEGIN:VEVENT
DTSTART;VALUE=DATE:20251124
DTEND;VALUE=DATE:20251129
DTSTAMP:20260422T231139
CREATED:20250520T185934Z
LAST-MODIFIED:20250520T185934Z
UID:10000403-1763942400-1764374399@www.leeacademycougars.net
SUMMARY:Thanksgiving Break
DESCRIPTION:
URL:https://www.leeacademycougars.net/event/thanksgiving-break
END:VEVENT
BEGIN:VEVENT
DTSTART;TZID=America/Chicago:20251121T160000
DTEND;TZID=America/Chicago:20251121T160000
DTSTAMP:20260422T231139
CREATED:20250729T185347Z
LAST-MODIFIED:20250729T185347Z
UID:10000466-1763740800-1763740800@www.leeacademycougars.net
SUMMARY:Basketball vs. Delta
DESCRIPTION:JG\, JB\, SG\, SB
URL:https://www.leeacademycougars.net/event/basketball-vs-delta
LOCATION:home
END:VEVENT
BEGIN:VEVENT
DTSTART;TZID=America/Chicago:20251121T120000
DTEND;TZID=America/Chicago:20251121T120000
DTSTAMP:20260422T231139
CREATED:20250520T185710Z
LAST-MODIFIED:20250520T185710Z
UID:10000402-1763726400-1763726400@www.leeacademycougars.net
SUMMARY:Early Dismissal
DESCRIPTION:
URL:https://www.leeacademycougars.net/event/early-dismissal-3
END:VEVENT
BEGIN:VEVENT
DTSTART;TZID=America/Chicago:20251120T160000
DTEND;TZID=America/Chicago:20251120T160000
DTSTAMP:20260422T231139
CREATED:20250729T185143Z
LAST-MODIFIED:20250729T185143Z
UID:10000465-1763654400-1763654400@www.leeacademycougars.net
SUMMARY:Basketball @ Newport
DESCRIPTION:JG\, JB\, SG\, SB
URL:https://www.leeacademycougars.net/event/basketball-newport
LOCATION:Newport
END:VEVENT
BEGIN:VEVENT
DTSTART;VALUE=DATE:20251120
DTEND;VALUE=DATE:20251121
DTSTAMP:20260422T231139
CREATED:20250729T175407Z
LAST-MODIFIED:20250729T175407Z
UID:10000446-1763596800-1763683199@www.leeacademycougars.net
SUMMARY:Varsity Football State Championship
DESCRIPTION:
URL:https://www.leeacademycougars.net/event/varsity-football-state-championship
LOCATION:Jackson\, MS
END:VEVENT
BEGIN:VEVENT
DTSTART;TZID=America/Chicago:20251118T160000
DTEND;TZID=America/Chicago:20251118T160000
DTSTAMP:20260422T231139
CREATED:20250729T184958Z
LAST-MODIFIED:20250729T184958Z
UID:10000464-1763481600-1763481600@www.leeacademycougars.net
SUMMARY:Basketball vs. Calhoun
DESCRIPTION:JG\, JB\, SG\, SB
URL:https://www.leeacademycougars.net/event/basketball-vs-calhoun
LOCATION:home
END:VEVENT
BEGIN:VEVENT
DTSTART;TZID=America/Chicago:20251117T160000
DTEND;TZID=America/Chicago:20251117T160000
DTSTAMP:20260422T231139
CREATED:20250729T184815Z
LAST-MODIFIED:20250729T184815Z
UID:10000463-1763395200-1763395200@www.leeacademycougars.net
SUMMARY:Basketball @ Mccrory
DESCRIPTION:JG\, JB\, SG\, SB
URL:https://www.leeacademycougars.net/event/basketball-mccrory
LOCATION:Mccrory
END:VEVENT
BEGIN:VEVENT
DTSTART;VALUE=DATE:20251114
DTEND;VALUE=DATE:20251115
DTSTAMP:20260422T231139
CREATED:20250729T175106Z
LAST-MODIFIED:20250729T175106Z
UID:10000445-1763078400-1763164799@www.leeacademycougars.net
SUMMARY:Varsity Football Semi-Finals
DESCRIPTION:
URL:https://www.leeacademycougars.net/event/varsity-football-semi-finals
LOCATION:TBD
END:VEVENT
BEGIN:VEVENT
DTSTART;TZID=America/Chicago:20251113T160000
DTEND;TZID=America/Chicago:20251113T160000
DTSTAMP:20260422T231139
CREATED:20250729T184646Z
LAST-MODIFIED:20250729T184646Z
UID:10000462-1763049600-1763049600@www.leeacademycougars.net
SUMMARY:Basketball vs. Midland
DESCRIPTION:JG\, JB\, SG\, SB
URL:https://www.leeacademycougars.net/event/basketball-vs-midland
LOCATION:Midland
END:VEVENT
BEGIN:VEVENT
DTSTART;TZID=America/Chicago:20251111T160000
DTEND;TZID=America/Chicago:20251111T160000
DTSTAMP:20260422T231139
CREATED:20250729T184440Z
LAST-MODIFIED:20250729T184440Z
UID:10000461-1762876800-1762876800@www.leeacademycougars.net
SUMMARY:Basketball vs. Lee Clarksdale
DESCRIPTION:JG\, JB\, SG\, SB
URL:https://www.leeacademycougars.net/event/basketball-vs-lee-clarksdale-2
LOCATION:home
END:VEVENT
BEGIN:VEVENT
DTSTART;TZID=America/Chicago:20251110T160000
DTEND;TZID=America/Chicago:20251110T160000
DTSTAMP:20260422T231139
CREATED:20250729T184226Z
LAST-MODIFIED:20250729T184226Z
UID:10000460-1762790400-1762790400@www.leeacademycougars.net
SUMMARY:Basketball vs. Harrisburg
DESCRIPTION:JG\, JB\, SG\, SB
URL:https://www.leeacademycougars.net/event/basketball-vs-harrisburg
LOCATION:home
END:VEVENT
END:VCALENDAR