BEGIN:VCALENDAR
VERSION:2.0
PRODID:-//Lee Academy - ECPv6.15.17.1//NONSGML v1.0//EN
CALSCALE:GREGORIAN
METHOD:PUBLISH
X-WR-CALNAME:Lee Academy
X-ORIGINAL-URL:https://www.leeacademycougars.net
X-WR-CALDESC:Events for Lee Academy
REFRESH-INTERVAL;VALUE=DURATION:PT1H
X-Robots-Tag:noindex
X-PUBLISHED-TTL:PT1H
BEGIN:VTIMEZONE
TZID:America/Chicago
BEGIN:DAYLIGHT
TZOFFSETFROM:-0600
TZOFFSETTO:-0500
TZNAME:CDT
DTSTART:20240310T080000
END:DAYLIGHT
BEGIN:STANDARD
TZOFFSETFROM:-0500
TZOFFSETTO:-0600
TZNAME:CST
DTSTART:20241103T070000
END:STANDARD
BEGIN:DAYLIGHT
TZOFFSETFROM:-0600
TZOFFSETTO:-0500
TZNAME:CDT
DTSTART:20250309T080000
END:DAYLIGHT
BEGIN:STANDARD
TZOFFSETFROM:-0500
TZOFFSETTO:-0600
TZNAME:CST
DTSTART:20251102T070000
END:STANDARD
BEGIN:DAYLIGHT
TZOFFSETFROM:-0600
TZOFFSETTO:-0500
TZNAME:CDT
DTSTART:20260308T080000
END:DAYLIGHT
BEGIN:STANDARD
TZOFFSETFROM:-0500
TZOFFSETTO:-0600
TZNAME:CST
DTSTART:20261101T070000
END:STANDARD
END:VTIMEZONE
BEGIN:VEVENT
DTSTART;TZID=America/Chicago:20251016T190000
DTEND;TZID=America/Chicago:20251016T190000
DTSTAMP:20260425T060311
CREATED:20250729T182158Z
LAST-MODIFIED:20250729T182158Z
UID:10000454-1760641200-1760641200@www.leeacademycougars.net
SUMMARY:Junior High Football @ Delta Academy
DESCRIPTION:
URL:https://www.leeacademycougars.net/event/junior-high-football-delta-academy
LOCATION:Delta Academy
END:VEVENT
BEGIN:VEVENT
DTSTART;VALUE=DATE:20251014
DTEND;VALUE=DATE:20251016
DTSTAMP:20260425T060311
CREATED:20250729T182545Z
LAST-MODIFIED:20250729T182545Z
UID:10000455-1760400000-1760572799@www.leeacademycougars.net
SUMMARY:Basketball: Delta Girls Preseason Jamboree
DESCRIPTION:JG\, SG
URL:https://www.leeacademycougars.net/event/basketball-delta-girls-preseason-jamboree
LOCATION:Delta
END:VEVENT
BEGIN:VEVENT
DTSTART;TZID=America/Chicago:20251010T190000
DTEND;TZID=America/Chicago:20251010T190000
DTSTAMP:20260425T060311
CREATED:20250729T174057Z
LAST-MODIFIED:20250729T174057Z
UID:10000440-1760122800-1760122800@www.leeacademycougars.net
SUMMARY:Varsity Football vs. Marvell Academy
DESCRIPTION:
URL:https://www.leeacademycougars.net/event/varsity-football-vs-marvell-academy
LOCATION:home
END:VEVENT
BEGIN:VEVENT
DTSTART;TZID=America/Chicago:20251010T140000
DTEND;TZID=America/Chicago:20251010T173000
DTSTAMP:20260425T060311
CREATED:20250520T185242Z
LAST-MODIFIED:20250520T185242Z
UID:10000399-1760104800-1760117400@www.leeacademycougars.net
SUMMARY:Parent/Teacher Conferences
DESCRIPTION:
URL:https://www.leeacademycougars.net/event/parent-teacher-conferences
END:VEVENT
BEGIN:VEVENT
DTSTART;TZID=America/Chicago:20251010T130000
DTEND;TZID=America/Chicago:20251010T130000
DTSTAMP:20260425T060311
CREATED:20250520T185129Z
LAST-MODIFIED:20250520T185129Z
UID:10000398-1760101200-1760101200@www.leeacademycougars.net
SUMMARY:Early Dismissal
DESCRIPTION:
URL:https://www.leeacademycougars.net/event/early-dismissal-2
END:VEVENT
BEGIN:VEVENT
DTSTART;VALUE=DATE:20251010
DTEND;VALUE=DATE:20251011
DTSTAMP:20260425T060311
CREATED:20250520T184758Z
LAST-MODIFIED:20250520T184758Z
UID:10000396-1760054400-1760140799@www.leeacademycougars.net
SUMMARY:End of First Nine Weeks (44 days)
DESCRIPTION:
URL:https://www.leeacademycougars.net/event/end-of-first-nine-weeks-44-days
END:VEVENT
BEGIN:VEVENT
DTSTART;TZID=America/Chicago:20251009T190000
DTEND;TZID=America/Chicago:20251009T190000
DTSTAMP:20260425T060311
CREATED:20250729T182020Z
LAST-MODIFIED:20250729T182020Z
UID:10000453-1760036400-1760036400@www.leeacademycougars.net
SUMMARY:Junior High Football vs. Tunica Academy
DESCRIPTION:
URL:https://www.leeacademycougars.net/event/junior-high-football-vs-tunica-academy
LOCATION:home
END:VEVENT
BEGIN:VEVENT
DTSTART;VALUE=DATE:20251006
DTEND;VALUE=DATE:20251008
DTSTAMP:20260425T060311
CREATED:20250520T183937Z
LAST-MODIFIED:20250520T183937Z
UID:10000395-1759708800-1759881599@www.leeacademycougars.net
SUMMARY:Fall Break
DESCRIPTION:
URL:https://www.leeacademycougars.net/event/fall-break
END:VEVENT
BEGIN:VEVENT
DTSTART;TZID=America/Chicago:20251003T190000
DTEND;TZID=America/Chicago:20251003T190000
DTSTAMP:20260425T060311
CREATED:20250729T173926Z
LAST-MODIFIED:20250729T173926Z
UID:10000439-1759518000-1759518000@www.leeacademycougars.net
SUMMARY:Varsity Football @ North Sunflower Academy
DESCRIPTION:
URL:https://www.leeacademycougars.net/event/varsity-football-north-sunflower-academy
LOCATION:North Sunflower Academy
END:VEVENT
BEGIN:VEVENT
DTSTART;TZID=America/Chicago:20251002T190000
DTEND;TZID=America/Chicago:20251002T190000
DTSTAMP:20260425T060311
CREATED:20250729T181730Z
LAST-MODIFIED:20250729T181730Z
UID:10000452-1759431600-1759431600@www.leeacademycougars.net
SUMMARY:Junior High Football @ Desoto School
DESCRIPTION:
URL:https://www.leeacademycougars.net/event/junior-high-football-desoto-school
LOCATION:Desoto School
END:VEVENT
BEGIN:VEVENT
DTSTART;TZID=America/Chicago:20250926T190000
DTEND;TZID=America/Chicago:20250926T190000
DTSTAMP:20260425T060311
CREATED:20250729T173739Z
LAST-MODIFIED:20250729T173739Z
UID:10000438-1758913200-1758913200@www.leeacademycougars.net
SUMMARY:Varsity Football @ Deer Creek School
DESCRIPTION:
URL:https://www.leeacademycougars.net/event/varsity-football-deer-creek-school
LOCATION:Deer Creek School
END:VEVENT
BEGIN:VEVENT
DTSTART;TZID=America/Chicago:20250925T190000
DTEND;TZID=America/Chicago:20250925T190000
DTSTAMP:20260425T060311
CREATED:20250729T181600Z
LAST-MODIFIED:20250729T181600Z
UID:10000451-1758826800-1758826800@www.leeacademycougars.net
SUMMARY:Junior High Football vs. Marvell Academy
DESCRIPTION:
URL:https://www.leeacademycougars.net/event/junior-high-football-vs-marvell-academy
LOCATION:home
END:VEVENT
BEGIN:VEVENT
DTSTART;TZID=America/Chicago:20250919T190000
DTEND;TZID=America/Chicago:20250919T190000
DTSTAMP:20260425T060311
CREATED:20250729T173533Z
LAST-MODIFIED:20250729T173533Z
UID:10000437-1758308400-1758308400@www.leeacademycougars.net
SUMMARY:Varsity Football vs. Hebron Christian School - Homecoming
DESCRIPTION:
URL:https://www.leeacademycougars.net/event/varsity-football-vs-hebron-christian-school-homecoming
LOCATION:home
END:VEVENT
BEGIN:VEVENT
DTSTART;VALUE=DATE:20250919
DTEND;VALUE=DATE:20250920
DTSTAMP:20260425T060311
CREATED:20250520T183841Z
LAST-MODIFIED:20250520T184519Z
UID:10000394-1758240000-1758326399@www.leeacademycougars.net
SUMMARY:Homecoming - Dismiss at Noon
DESCRIPTION:
URL:https://www.leeacademycougars.net/event/homecoming-dismiss-at-noon
END:VEVENT
BEGIN:VEVENT
DTSTART;TZID=America/Chicago:20250918T190000
DTEND;TZID=America/Chicago:20250918T190000
DTSTAMP:20260425T060311
CREATED:20250729T181437Z
LAST-MODIFIED:20250729T181437Z
UID:10000450-1758222000-1758222000@www.leeacademycougars.net
SUMMARY:Junior High Football @ Tunica Academy
DESCRIPTION:
URL:https://www.leeacademycougars.net/event/junior-high-football-tunica-academy
LOCATION:Tunica Academy
END:VEVENT
BEGIN:VEVENT
DTSTART;TZID=America/Chicago:20250912T190000
DTEND;TZID=America/Chicago:20250912T190000
DTSTAMP:20260425T060311
CREATED:20250729T173020Z
LAST-MODIFIED:20250729T173020Z
UID:10000436-1757703600-1757703600@www.leeacademycougars.net
SUMMARY:Varsity Football @ Desoto School
DESCRIPTION:
URL:https://www.leeacademycougars.net/event/varsity-football-desoto-school
LOCATION:Desoto School
END:VEVENT
BEGIN:VEVENT
DTSTART;TZID=America/Chicago:20250911T190000
DTEND;TZID=America/Chicago:20250911T190000
DTSTAMP:20260425T060311
CREATED:20250729T181304Z
LAST-MODIFIED:20250729T181304Z
UID:10000449-1757617200-1757617200@www.leeacademycougars.net
SUMMARY:Junior High Football vs. Desoto School
DESCRIPTION:
URL:https://www.leeacademycougars.net/event/junior-high-football-vs-desoto-school
LOCATION:home
END:VEVENT
BEGIN:VEVENT
DTSTART;TZID=America/Chicago:20250905T190000
DTEND;TZID=America/Chicago:20250905T190000
DTSTAMP:20260425T060311
CREATED:20250729T172850Z
LAST-MODIFIED:20250729T172850Z
UID:10000435-1757098800-1757098800@www.leeacademycougars.net
SUMMARY:Varsity Football vs. Benton Academy
DESCRIPTION:
URL:https://www.leeacademycougars.net/event/varsity-football-vs-benton-academy
LOCATION:home
END:VEVENT
BEGIN:VEVENT
DTSTART;TZID=America/Chicago:20250904T190000
DTEND;TZID=America/Chicago:20250904T190000
DTSTAMP:20260425T060311
CREATED:20250729T181046Z
LAST-MODIFIED:20250729T181046Z
UID:10000448-1757012400-1757012400@www.leeacademycougars.net
SUMMARY:Junior High Football @ Marvell Academy
DESCRIPTION:
URL:https://www.leeacademycougars.net/event/junior-high-football-marvell-academy
LOCATION:Marvell Academy
END:VEVENT
BEGIN:VEVENT
DTSTART;VALUE=DATE:20250903
DTEND;VALUE=DATE:20250904
DTSTAMP:20260425T060311
CREATED:20250520T183748Z
LAST-MODIFIED:20250520T184320Z
UID:10000393-1756857600-1756943999@www.leeacademycougars.net
SUMMARY:First Nine Weeks Progress Report
DESCRIPTION:
URL:https://www.leeacademycougars.net/event/first-nine-weeks-progress-report
END:VEVENT
BEGIN:VEVENT
DTSTART;VALUE=DATE:20250901
DTEND;VALUE=DATE:20250902
DTSTAMP:20260425T060311
CREATED:20250520T183706Z
LAST-MODIFIED:20250520T184110Z
UID:10000392-1756684800-1756771199@www.leeacademycougars.net
SUMMARY:Labor Day - No Classes
DESCRIPTION:
URL:https://www.leeacademycougars.net/event/labor-day-no-classes
END:VEVENT
BEGIN:VEVENT
DTSTART;TZID=America/Chicago:20250829T190000
DTEND;TZID=America/Chicago:20250829T190000
DTSTAMP:20260425T060311
CREATED:20250729T172722Z
LAST-MODIFIED:20250729T172722Z
UID:10000434-1756494000-1756494000@www.leeacademycougars.net
SUMMARY:Varsity Football vs. Delta Streets
DESCRIPTION:
URL:https://www.leeacademycougars.net/event/varsity-football-vs-delta-streets
LOCATION:home
END:VEVENT
BEGIN:VEVENT
DTSTART;VALUE=DATE:20250828
DTEND;VALUE=DATE:20250829
DTSTAMP:20260425T060311
CREATED:20250729T180859Z
LAST-MODIFIED:20250729T180859Z
UID:10000447-1756339200-1756425599@www.leeacademycougars.net
SUMMARY:Junior High Football Jamboree @ Tunica
DESCRIPTION:
URL:https://www.leeacademycougars.net/event/junior-high-football-jamboree-tunica
LOCATION:Tunica
END:VEVENT
BEGIN:VEVENT
DTSTART;TZID=America/Chicago:20250822T190000
DTEND;TZID=America/Chicago:20250822T190000
DTSTAMP:20260425T060311
CREATED:20250729T172559Z
LAST-MODIFIED:20250729T172559Z
UID:10000433-1755889200-1755889200@www.leeacademycougars.net
SUMMARY:Varsity Football @ Corning High School
DESCRIPTION:
URL:https://www.leeacademycougars.net/event/varsity-football-corning-high-school
LOCATION:Corning High School
END:VEVENT
BEGIN:VEVENT
DTSTART;TZID=America/Chicago:20250815T190000
DTEND;TZID=America/Chicago:20250815T190000
DTSTAMP:20260425T060311
CREATED:20250729T172405Z
LAST-MODIFIED:20250729T172405Z
UID:10000432-1755284400-1755284400@www.leeacademycougars.net
SUMMARY:Varsity Football Jamboree @ Helena\, AR
DESCRIPTION:
URL:https://www.leeacademycougars.net/event/varsity-football-jamboree-helena-ar
LOCATION:Helena\, AR
END:VEVENT
BEGIN:VEVENT
DTSTART;VALUE=DATE:20250807
DTEND;VALUE=DATE:20250808
DTSTAMP:20260425T060311
CREATED:20250520T183627Z
LAST-MODIFIED:20250520T184024Z
UID:10000391-1754524800-1754611199@www.leeacademycougars.net
SUMMARY:First Day of School for Students
DESCRIPTION:
URL:https://www.leeacademycougars.net/event/first-day-of-school-for-students
END:VEVENT
BEGIN:VEVENT
DTSTART;VALUE=DATE:20250806
DTEND;VALUE=DATE:20250807
DTSTAMP:20260425T060311
CREATED:20250520T183211Z
LAST-MODIFIED:20250520T183415Z
UID:10000024-1754438400-1754524799@www.leeacademycougars.net
SUMMARY:Teacher Workday
DESCRIPTION:
URL:https://www.leeacademycougars.net/event/teacher-workday/2025-08-06
END:VEVENT
BEGIN:VEVENT
DTSTART;TZID=America/Chicago:20250805T180000
DTEND;TZID=America/Chicago:20250805T180000
DTSTAMP:20260425T060311
CREATED:20250520T183548Z
LAST-MODIFIED:20250520T183548Z
UID:10000390-1754416800-1754416800@www.leeacademycougars.net
SUMMARY:Co-op Meeting/Open House
DESCRIPTION:
URL:https://www.leeacademycougars.net/event/co-op-meeting-open-house
END:VEVENT
BEGIN:VEVENT
DTSTART;VALUE=DATE:20250805
DTEND;VALUE=DATE:20250806
DTSTAMP:20260425T060311
CREATED:20250520T183211Z
LAST-MODIFIED:20250520T183415Z
UID:10000023-1754352000-1754438399@www.leeacademycougars.net
SUMMARY:Teacher Workday
DESCRIPTION:
URL:https://www.leeacademycougars.net/event/teacher-workday/2025-08-05
END:VEVENT
BEGIN:VEVENT
DTSTART;TZID=America/Chicago:20250516T120000
DTEND;TZID=America/Chicago:20250516T120000
DTSTAMP:20260425T060311
CREATED:20250410T170209Z
LAST-MODIFIED:20250410T170209Z
UID:10000022-1747396800-1747396800@www.leeacademycougars.net
SUMMARY:Early Dismissal
DESCRIPTION:
URL:https://www.leeacademycougars.net/event/early-dismissal
END:VEVENT
END:VCALENDAR